BEGIN:VCALENDAR
VERSION:2.0
PRODID:-//Kenilworth Park District Events - ECPv6.15.20//NONSGML v1.0//EN
CALSCALE:GREGORIAN
METHOD:PUBLISH
X-WR-CALNAME:Kenilworth Park District Events
X-ORIGINAL-URL:https://calendar.kenilworthparkdistrict.org
X-WR-CALDESC:Events for Kenilworth Park District Events
REFRESH-INTERVAL;VALUE=DURATION:PT1H
X-Robots-Tag:noindex
X-PUBLISHED-TTL:PT1H
BEGIN:VTIMEZONE
TZID:America/Los_Angeles
BEGIN:DAYLIGHT
TZOFFSETFROM:-0800
TZOFFSETTO:-0700
TZNAME:PDT
DTSTART:20230312T100000
END:DAYLIGHT
BEGIN:STANDARD
TZOFFSETFROM:-0700
TZOFFSETTO:-0800
TZNAME:PST
DTSTART:20231105T090000
END:STANDARD
BEGIN:DAYLIGHT
TZOFFSETFROM:-0800
TZOFFSETTO:-0700
TZNAME:PDT
DTSTART:20240310T100000
END:DAYLIGHT
BEGIN:STANDARD
TZOFFSETFROM:-0700
TZOFFSETTO:-0800
TZNAME:PST
DTSTART:20241103T090000
END:STANDARD
BEGIN:DAYLIGHT
TZOFFSETFROM:-0800
TZOFFSETTO:-0700
TZNAME:PDT
DTSTART:20250309T100000
END:DAYLIGHT
BEGIN:STANDARD
TZOFFSETFROM:-0700
TZOFFSETTO:-0800
TZNAME:PST
DTSTART:20251102T090000
END:STANDARD
END:VTIMEZONE
BEGIN:VEVENT
DTSTART;TZID=America/Los_Angeles:20240301T193000
DTEND;TZID=America/Los_Angeles:20240301T213000
DTSTAMP:20260423T022204
CREATED:20231129T210214Z
LAST-MODIFIED:20231212T214737Z
UID:10000120-1709321400-1709328600@calendar.kenilworthparkdistrict.org
SUMMARY:Brad Macdonald Group
DESCRIPTION:Brad Macdonald Group performs Billy Joel’s The Stranger \n\n\n\n\n\n\n\n\nBuy tickets
URL:https://calendar.kenilworthparkdistrict.org/event/brad-macdonald-group/
LOCATION:Kenilworth Assembly Hall\, 410 Kenilworth Avenue\, Kenilworth\, IL\, 60043\, United States
CATEGORIES:Music
ATTACH;FMTTYPE=image/jpeg:https://calendar.kenilworthparkdistrict.org/wp-content/uploads/event-instagram-brad-macdonald-march-1.jpg
END:VEVENT
BEGIN:VEVENT
DTSTART;TZID=America/Los_Angeles:20240405T193000
DTEND;TZID=America/Los_Angeles:20240405T213000
DTSTAMP:20260423T022204
CREATED:20240224T054850Z
LAST-MODIFIED:20240227T190548Z
UID:10000153-1712345400-1712352600@calendar.kenilworthparkdistrict.org
SUMMARY:Sally Blandon
DESCRIPTION:Tears Dry on Their Own: A Tribute to Amy Winehouse \n\n\n\n\n\n\n\n\nget tickets
URL:https://calendar.kenilworthparkdistrict.org/event/sally-blandon-amy-winehouse/
LOCATION:Kenilworth Assembly Hall\, 410 Kenilworth Avenue\, Kenilworth\, IL\, 60043\, United States
CATEGORIES:Music
ATTACH;FMTTYPE=image/jpeg:https://calendar.kenilworthparkdistrict.org/wp-content/uploads/event-instagram-sally-blandon-april-5th.jpg
END:VEVENT
BEGIN:VEVENT
DTSTART;TZID=America/Los_Angeles:20240503T193000
DTEND;TZID=America/Los_Angeles:20240503T213000
DTSTAMP:20260423T022204
CREATED:20240219T190834Z
LAST-MODIFIED:20240419T155001Z
UID:10000152-1714764600-1714771800@calendar.kenilworthparkdistrict.org
SUMMARY:The Day-Glo Freaks
DESCRIPTION:The Day-Glo Freaks presents a Night of Steely Dan \n\n\n\n\n\n\n\n\nbuy tickets
URL:https://calendar.kenilworthparkdistrict.org/event/day-glo-freaks-steely-dan/
LOCATION:Kenilworth Assembly Hall\, 410 Kenilworth Avenue\, Kenilworth\, IL\, 60043\, United States
CATEGORIES:Music
ATTACH;FMTTYPE=image/webp:https://calendar.kenilworthparkdistrict.org/wp-content/uploads/event-instagram-day-glo-freaks.webp
END:VEVENT
BEGIN:VEVENT
DTSTART;TZID=America/Los_Angeles:20240603T170000
DTEND;TZID=America/Los_Angeles:20240603T193000
DTSTAMP:20260423T022204
CREATED:20240319T000956Z
LAST-MODIFIED:20240605T030556Z
UID:10000154-1717434000-1717443000@calendar.kenilworthparkdistrict.org
SUMMARY:Food Truck Mondays
DESCRIPTION:Food available from Tievoli Pizza & Rio Bamba Food Trucks with music by The Heavy Sounds. \n\n\n\nJoin Us For \n\n\n\n\nCornhole League\n\n\n\nBocce Ball League\n\n\n\nMargaritas\n\n\n\nFamily Fun\n\n\n\n\nThis is a Free Community Event
URL:https://calendar.kenilworthparkdistrict.org/event/food-truck-mondays-june-3/
LOCATION:Kenilworth Assembly Hall\, 410 Kenilworth Avenue\, Kenilworth\, IL\, 60043\, United States
CATEGORIES:Music
ATTACH;FMTTYPE=image/webp:https://calendar.kenilworthparkdistrict.org/wp-content/uploads/event-food-truck-mondays-june-3-update.webp
END:VEVENT
BEGIN:VEVENT
DTSTART;TZID=America/Los_Angeles:20240715T170000
DTEND;TZID=America/Los_Angeles:20240715T193000
DTSTAMP:20260423T022204
CREATED:20240319T001917Z
LAST-MODIFIED:20240730T003318Z
UID:10000159-1721062800-1721071800@calendar.kenilworthparkdistrict.org
SUMMARY:Food Truck Mondays
DESCRIPTION:Food available from Rio Bamba Food Truck with music by Upright Down. \n\n\n\nJoin Us For \n\n\n\n\nCornhole League\n\n\n\nBocce Ball League\n\n\n\nMargaritas\n\n\n\nFamily Fun\n\n\n\n\nThis is a Free Community Event
URL:https://calendar.kenilworthparkdistrict.org/event/food-truck-mondays-july-15/
LOCATION:Kenilworth Assembly Hall\, 410 Kenilworth Avenue\, Kenilworth\, IL\, 60043\, United States
CATEGORIES:Food and Beverage,Food Truck,Music
ATTACH;FMTTYPE=image/webp:https://calendar.kenilworthparkdistrict.org/wp-content/uploads/event-food-truck-mondays-july-15.webp
END:VEVENT
BEGIN:VEVENT
DTSTART;TZID=America/Los_Angeles:20241021T170000
DTEND;TZID=America/Los_Angeles:20241021T193000
DTSTAMP:20260423T022204
CREATED:20241011T174003Z
LAST-MODIFIED:20241011T174543Z
UID:10000218-1729530000-1729539000@calendar.kenilworthparkdistrict.org
SUMMARY:Grand Opening of Townley Field Accessible Playground
DESCRIPTION:We’re excited to unveil the New Townley Field Accessible Playground\, featuring\n\n\n\n\nAn innovative and fully accessible playground\n\n\n\nA state-of-the-art sports court\n\n\n\nA newly constructed pavilion\n\n\n\nOutdoor cornhole boards and a sturdy backstop\n\n\n\nA thoughtfully designed sensory garden\n\n\n\n\nEvent Highlights\n\n\n\n\nLive DJ\, Food Trucks & Fun!\n\n\n\nAdult kickball tournament\n\n\n\nKids Knockout Basketball Tournament (with prizes)\n\n\n\nFace Painting\n\n\n\nFood for purchase from several FOOD TRUCKS including Culinary Gangster\, Rio Bamba\, andSweet Ride Dessert Truck\n\n\n\nAdult Beverages available for purchase\n\n\n\n\nBring the whole family for a day of fun\, food\, and community!\n\n\n\nWe can’t wait to see you there!
URL:https://calendar.kenilworthparkdistrict.org/event/grand-opening-of-townley-field-accessible-playground/
LOCATION:IL
CATEGORIES:Food and Beverage,Food Truck,Music
ATTACH;FMTTYPE=image/webp:https://calendar.kenilworthparkdistrict.org/wp-content/uploads/kpd-grand-opening-playground-square.webp
END:VEVENT
END:VCALENDAR